BEGIN:VCALENDAR
VERSION:2.0
PRODID:-//ChamberMaster//Event Calendar 2.0//EN
METHOD:PUBLISH
X-PUBLISHED-TTL:P3D
REFRESH-INTERVAL:P3D
CALSCALE:GREGORIAN
BEGIN:VEVENT
DTSTART:20260526T203000Z
DTEND:20260526T220000Z
X-MICROSOFT-CDO-ALLDAYEVENT:FALSE
SUMMARY:Educational Roundtable: The Art of Effective Communication
DESCRIPTION:Communication is more than just the words we choose\; it's the bridge between an idea and its impact.\n\nIn today's fast-paced professional and academic landscapes\, the ability to articulate thoughts with clarity and confidence is a superpower. Whether you are leading a high-stakes meeting\, presenting to a lecture hall\, or engaging in a nuanced one-on-one dialogue\, your success depends on your ability to truly connect.\n\nJoin us for an interactive Educational Roundtable with LeRon Barnes\, owner of Renewing Minds\, where he strips away the jargon and dives into the mechanics of high-impact interaction. We will explore how to master the "soft skills" that yield hard results: emotional intelligence\, active listening\, and the subtle art of persuasion.\nWe encourage everyone to attend these sessions\, whether you come to learn or have ideas to share\; this is a great time to join the conversation! You do not have to be a Chamber member to attend!
X-ALT-DESC;FMTTYPE=text/html:<p data-path-to-node="3"><span style="font-size:14px\;"><span style="font-family:arial\;"><b data-index-in-node="0" data-path-to-node="3">Communication is more than just the words we choose\; it&rsquo\;s the bridge between an idea and its impact.</b></span></span></p>\n\n<p data-path-to-node="4"><span style="font-size:14px\;"><span style="font-family:arial\;">In today&rsquo\;s fast-paced professional and academic landscapes\, the ability to articulate thoughts with clarity and confidence is a superpower. Whether you are leading a high-stakes meeting\, presenting to a lecture hall\, or engaging in a nuanced one-on-one dialogue\, your success depends on your ability to truly <b data-index-in-node="309" data-path-to-node="4">connect.</b></span></span></p>\n\n<p data-path-to-node="5"><span style="font-size:14px\;"><span style="font-family:arial\;">Join us for an interactive Educational Roundtable with LeRon Barnes\, owner of Renewing Minds\, where he strips away the jargon and dives into the mechanics of high-impact interaction. We will explore how to master the &quot\;soft skills&quot\; that yield hard results: emotional intelligence\, active listening\, and the subtle art of persuasion.</span></span></p>\n<span style="font-size:14px\;"><span style="font-family:arial\;">We encourage everyone to attend these sessions\, whether you come to learn or have ideas to share\; this is a great time to join the conversation! You do <strong>not</strong> have to be a Chamber member to attend!&nbsp\;</span></span>
LOCATION:Grandview Chamber Office 12500 South US 71HWY\, Suite 100 Grandview\, MO 64030
UID:e.2292.613
SEQUENCE:3
DTSTAMP:20260422T094719Z
URL:https://members.grandviewmochamber.com/events/details/educational-roundtable-the-art-of-effective-communication-613
END:VEVENT

END:VCALENDAR
