BEGIN:VCALENDAR
VERSION:2.0
PRODID:-//ChamberMaster//Event Calendar 2.0//EN
METHOD:PUBLISH
X-PUBLISHED-TTL:P3D
REFRESH-INTERVAL:P3D
CALSCALE:GREGORIAN
BEGIN:VEVENT
DTSTART:20260427T230000Z
DTEND:20260428T003000Z
X-MICROSOFT-CDO-ALLDAYEVENT:FALSE
SUMMARY:Family First\, Finances Forward
DESCRIPTION:The Meadowmere and Grandview Middle School Site Council are hosting a family finance workshop in partnership with Commerce Bank. Join us for informative presentations\, refreshments\, raffles\, and money-saving tips for families and youth!
X-ALT-DESC;FMTTYPE=text/html:The Meadowmere and Grandview Middle School Site Council are hosting a family finance workshop in partnership with Commerce Bank. Join us for informative presentations\, refreshments\, raffles\, and money-saving tips for families and youth!
LOCATION:Meadowmere Elementary School 7010 E 136th Street Grandview\, MO 64030
UID:e.2292.615
SEQUENCE:3
DTSTAMP:20260423T220437Z
URL:https://members.grandviewmochamber.com/events/details/family-first-finances-forward-615
END:VEVENT

END:VCALENDAR
