BEGIN:VCALENDAR
VERSION:2.0
PRODID:-//ChamberMaster//Event Calendar 2.0//EN
METHOD:PUBLISH
X-PUBLISHED-TTL:P3D
REFRESH-INTERVAL:P3D
CALSCALE:GREGORIAN
BEGIN:VEVENT
DTSTART:20260521T190000Z
DTEND:20260521T193000Z
X-MICROSOFT-CDO-ALLDAYEVENT:FALSE
SUMMARY:Ribbon Cutting: One Way Cleaning
DESCRIPTION:Join us in celebrating One Way Cleaning's 25th Anniversary with a Ribbon Cutting Ceremony! Our friends from the Lee's Summit Chamber will join us to celebrate\, so bring those extra business cards to network! Hear from the One Way Cleaning team and the work they have provided over the last 25 years.
X-ALT-DESC;FMTTYPE=text/html:<span style="color: rgb(5\, 5\, 5)\; font-family: &quot\;Segoe UI Historic&quot\;\, &quot\;Segoe UI&quot\;\, Helvetica\, Arial\, sans-serif\; font-size: 15px\;">Join us in celebrating One Way Cleaning&#39\;s 25th Anniversary with a Ribbon Cutting Ceremony! Our friends from the Lee&#39\;s Summit Chamber will join us to celebrate\, so bring those extra business cards to network! Hear from the One Way Cleaning team and the work they have provided over the last 25 years.</span>
LOCATION:13010 2nd Street\, Apt D Grandview\, MO 64030
UID:e.2292.616
SEQUENCE:3
DTSTAMP:20260424T185122Z
URL:https://members.grandviewmochamber.com/events/details/ribbon-cutting-one-way-cleaning-616
END:VEVENT

END:VCALENDAR
